BEGIN:VCALENDAR
VERSION:2.0
PRODID:-//Eugen-Biser-Stiftung - ECPv6.15.20//NONSGML v1.0//EN
CALSCALE:GREGORIAN
METHOD:PUBLISH
X-WR-CALNAME:Eugen-Biser-Stiftung
X-ORIGINAL-URL:https://www.eugen-biser-stiftung.de
X-WR-CALDESC:Veranstaltungen für Eugen-Biser-Stiftung
REFRESH-INTERVAL;VALUE=DURATION:PT1H
X-Robots-Tag:noindex
X-PUBLISHED-TTL:PT1H
BEGIN:VTIMEZONE
TZID:Europe/Berlin
BEGIN:DAYLIGHT
TZOFFSETFROM:+0100
TZOFFSETTO:+0200
TZNAME:CEST
DTSTART:20230326T010000
END:DAYLIGHT
BEGIN:STANDARD
TZOFFSETFROM:+0200
TZOFFSETTO:+0100
TZNAME:CET
DTSTART:20231029T010000
END:STANDARD
BEGIN:DAYLIGHT
TZOFFSETFROM:+0100
TZOFFSETTO:+0200
TZNAME:CEST
DTSTART:20240331T010000
END:DAYLIGHT
BEGIN:STANDARD
TZOFFSETFROM:+0200
TZOFFSETTO:+0100
TZNAME:CET
DTSTART:20241027T010000
END:STANDARD
BEGIN:DAYLIGHT
TZOFFSETFROM:+0100
TZOFFSETTO:+0200
TZNAME:CEST
DTSTART:20250330T010000
END:DAYLIGHT
BEGIN:STANDARD
TZOFFSETFROM:+0200
TZOFFSETTO:+0100
TZNAME:CET
DTSTART:20251026T010000
END:STANDARD
END:VTIMEZONE
BEGIN:VEVENT
DTSTART;TZID=Europe/Berlin:20240614T161500
DTEND;TZID=Europe/Berlin:20240614T161500
DTSTAMP:20260422T183430
CREATED:20240513T145623Z
LAST-MODIFIED:20240513T145623Z
UID:6779-1718381700-1718381700@www.eugen-biser-stiftung.de
SUMMARY:Die Präambel
DESCRIPTION:Das Zentrum Seniorenstudium der Ludwig-Maximilians Universität München (LMU) bietet im Sommersemester 2024 in Zusammenarbeit mit der Eugen-Biser-Stiftung den Vortragszyklus der Eugen-Biser-Lectures an. Die Veranstaltungsreihe steht in diesem Semester unter dem Titel „Grundgesetz und Religion“. Die Vorlesungen finden immer Freitags 16:00 c.t. (also 16:15 Uhr) im Hörsaal E 004\, LMU Hauptgebäude\, Geschwister-Scholl-Platz 1\, 80359 München statt. 								\n				\n				\n				\n									\n					\n						\n									Vorlesungen für das Sommersemester 2024
URL:https://www.eugen-biser-stiftung.de/veranstaltung/die-praeambel/
CATEGORIES:Eugen-Biser-Lectures
ATTACH;FMTTYPE=image/png:https://www.eugen-biser-stiftung.de/wp-content/uploads/2024/05/eb_lectures_ankuendigungsbild_grau.png
ORGANIZER;CN="Eugen-Biser-Stiftung":MAILTO:kontakt@eugen-biser-stiftung.de
END:VEVENT
END:VCALENDAR